BEGIN:VCALENDAR
VERSION:2.0
PRODID:-//Nantwich Noir - ECPv6.15.20//NONSGML v1.0//EN
CALSCALE:GREGORIAN
METHOD:PUBLISH
X-WR-CALNAME:Nantwich Noir
X-ORIGINAL-URL:https://nantwichnoir.co.uk
X-WR-CALDESC:Events for Nantwich Noir
REFRESH-INTERVAL;VALUE=DURATION:PT1H
X-Robots-Tag:noindex
X-PUBLISHED-TTL:PT1H
BEGIN:VTIMEZONE
TZID:Europe/London
BEGIN:DAYLIGHT
TZOFFSETFROM:+0000
TZOFFSETTO:+0100
TZNAME:BST
DTSTART:20250330T010000
END:DAYLIGHT
BEGIN:STANDARD
TZOFFSETFROM:+0100
TZOFFSETTO:+0000
TZNAME:GMT
DTSTART:20251026T010000
END:STANDARD
BEGIN:DAYLIGHT
TZOFFSETFROM:+0000
TZOFFSETTO:+0100
TZNAME:BST
DTSTART:20260329T010000
END:DAYLIGHT
BEGIN:STANDARD
TZOFFSETFROM:+0100
TZOFFSETTO:+0000
TZNAME:GMT
DTSTART:20261025T010000
END:STANDARD
BEGIN:DAYLIGHT
TZOFFSETFROM:+0000
TZOFFSETTO:+0100
TZNAME:BST
DTSTART:20270328T010000
END:DAYLIGHT
BEGIN:STANDARD
TZOFFSETFROM:+0100
TZOFFSETTO:+0000
TZNAME:GMT
DTSTART:20271031T010000
END:STANDARD
END:VTIMEZONE
BEGIN:VEVENT
DTSTART;TZID=Europe/London:20261107T173000
DTEND;TZID=Europe/London:20261107T183000
DTSTAMP:20260421T152645
CREATED:20251119T140658Z
LAST-MODIFIED:20251119T140658Z
UID:347-1794072600-1794076200@nantwichnoir.co.uk
SUMMARY:True Crime Live: The Poisoner Next Door
DESCRIPTION:
URL:https://nantwichnoir.co.uk/event/true-crime-live-the-poisoner-next-door/
LOCATION:Venue 2\, High Street\, Nantwich\, United Kingdom
CATEGORIES:Festival Weekend 2026,True Crime & Podcasts
ATTACH;FMTTYPE=image/png:https://nantwichnoir.co.uk/wp-content/uploads/2025/11/Nantwich-Noir-logo-revised.png
END:VEVENT
END:VCALENDAR